Workbook

Sheet 1일차
A1: 제20대 국회의원선거 시간대별 사전투표상황
A3: [4월 8일, 1일차]
A5: 선거명 | B5: 구 분 | C5: 0.29166667 | D5: 0.33333333 | E5: 0.375 | F5: 0.41666667 | G5: 0.45833333 | H5: 0.5 | I5: 0.54166667 | J5: 0.58333333 | K5: 0.625 | L5: 0.66666667 | M5: 0.70833333 | N5: 0.75 | O5: 선거인수
A6: 제20대 국회의원선거 | B6: 투표자수 | C6: 74914 | D6: 149563 | E6: 278706 | F6: 495043 | G6: 731609 | H6: 934780 | I6: 1146639 | J6: 1403163 | K6: 1651731 | L6: 1879256 | M6: 2091447 | N6: 2296387 | O6: 42100398
B7: 투표율 | C7: =C6/$O$6*100 -> 0.17794131 | D7: =D6/$O$6*100 -> 0.35525317 | E7: =E6/$O$6*100 -> 0.66200324 | F7: =F6/$O$6*100 -> 1.175863 | G7: =G6/$O$6*100 -> 1.7377722 | H7: =H6/$O$6*100 -> 2.2203591 | I7: =I6/$O$6*100 -> 2.7235823 | J7: =J6/$O$6*100 -> 3.3328972 | ... N7: =N6/$O$6*100 -> 5.4545494
A8: * 관내 - 1,327,066명(57.8%), 관외 - 969,321명(42.2%)
A9: * 최고 - 경북 영양군(13.88%), 최저 - 대구 서구(3.45%)
A11: < 직전 임기만료선거 시간대별 사전투표율 >
A12: 선거명 | B12: 구 분 | C12: 0.29166667 | D12: 0.33333333 | E12: 0.375 | F12: 0.41666667 | G12: 0.45833333 | H12: 0.5 | I12: 0.54166667 | J12: 0.58333333 | K12: 0.625 | L12: 0.66666667 | M12: 0.70833333 | N12: 0.75 | O12: 선거인수
A13: 제6회 지방선거 | B13: 1일차 | C13: 0.22 | E13: 0.72 | G13: 1.65 | H13: 2.06 | I13: 2.43 | J13: 2.9 | K13: 3.39 | L13: 3.84 | M13: 4.27 | N13: 4.75 | O13: 41296228
B14: 2일차 | C14: 0.2 | E14: 0.77 | G14: 1.9 | H14: 2.52 | I14: 3.06 | J14: 3.68 | K14: 4.33 | L14: 5 | M14: 5.74 | N14: 6.74
B15: 2일차누계 | C15: 4.94 | E15: 5.52 | G15: 6.65 | H15: 7.27 | I15: 7.81 | J15: 8.43 | K15: 9.07 | L15: 9.74 | M15: 10.49 | N15: 11.49
A16: '14 하반기 재·보선 | B16: 1일차 | C16: 0.38409737 | E16: 2.2147952 | G16: 6.434878 | H16: 7.7068888 | I16: 8.4401656 | J16: 9.5575398 | K16: 10.380606 | L16: 11.163765 | M16: 11.657605 | N16: 12.10655 | O16: 20047
B17: 2일차 | C17: 0.28 | E17: 1.37 | G17: 3.47 | H17: 4.08 | I17: 4.69 | J17: 5.38 | K17: 5.93 | L17: 6.47 | M17: 6.97 | N17: 7.29
B18: 2일차누계 | C18: 12.385893 | E18: 13.483314 | G18: 15.583379 | H18: 16.186961 | I18: 16.795531 | J18: 17.493889 | K18: 18.0426 | L18: 18.581334 | M18: 19.075173 | N18: 19.399411
A19: '15 상반기 재·보선 | B19: 1일차 | C19: 0.1013832 | D19: 0.22 | E19: 0.31887962 | F19: 0.33 | G19: 0.78597377 | H19: 1.019724 | I19: 1.2258428 | J19: 1.471885 | K19: 1.726562 | L19: 1.9689471 | M19: 2.2034084 | N19: 2.399267 | O19: 984384
B20: 2일차 | C20: 0.11651957 | E20: 0.50711917 | G20: 1.2756201 | H20: 1.7005559 | I20: 2.0793715 | J20: 2.5084723 | K20: 2.9405191 | L20: 3.3997911 | M20: 3.8672916 | N20: 4.3374334
B21: 2일차누계 | C21: 2.5157865 | E21: 2.9063861 | G21: 3.674887 | H21: 4.0998228 | I21: 4.4786384 | J21: 4.9077393 | K21: 5.3397861 | L21: 5.7990581 | M21: 6.2665586 | N21: 6.7367003

Sheet 2일차
A1: 제20대 국회의원선거 시간대별 사전투표상황
A3: [4. 8. ~ 4. 9. 최종]
A5: 구 분 | B5: 구 분 | C5: 0.29166667 | D5: 0.33333333 | E5: 0.375 | F5: 0.41666667 | G5: 0.45833333 | H5: 0.5 | I5: 0.54166667 | J5: 0.58333333 | K5: 0.625 | L5: 0.66666667 | M5: 0.70833333 | N5: 0.75 | O5: 선거인수
A6: 1일차분 (4. 8.) | B6: 투표자수 | C6: ='1일차'!C6 -> 74914 | D6: ='1일차'!D6 -> 149563 | E6: ='1일차'!E6 -> 278706 | F6: ='1일차'!F6 -> 495043 | G6: ='1일차'!G6 -> 731609 | H6: ='1일차'!H6 -> 934780 | I6: ='1일차'!I6 -> 1146639 | J6: ='1일차'!J6 -> 1403163 | ... N6: ='1일차'!N6 -> 2296387 | O6: ='1일차'!O6:O7 -> 42100398
B7: 투 표 율 | C7: ='1일차'!C7 -> 0.17794131 | D7: ='1일차'!D7 -> 0.35525317 | E7: ='1일차'!E7 -> 0.66200324 | F7: ='1일차'!F7 -> 1.175863 | G7: ='1일차'!G7 -> 1.7377722 | H7: ='1일차'!H7 -> 2.2203591 | I7: ='1일차'!I7 -> 2.7235823 | J7: ='1일차'!J7 -> 3.3328972 | ... N7: ='1일차'!N7 -> 5.4545494
A8: 2일차분 (4. 9.) | B8: 투표자수 | C8: 61589 | D8: 144915 | E8: 279236 | F8: 490634 | G8: 741801 | H8: 998514 | I8: 1253394 | J8: 1551822 | K8: 1865611 | L8: 2176105 | M8: 2489138 | N8: 2835334
B9: 투 표 율 | C9: =C8/$O$6*100 -> 0.14629078 | D9: =D8/$O$6*100 -> 0.3442129 | E9: =E8/$O$6*100 -> 0.66326214 | F9: =F8/$O$6*100 -> 1.1653904 | G9: =G8/$O$6*100 -> 1.761981 | H9: =H8/$O$6*100 -> 2.3717448 | I9: =I8/$O$6*100 -> 2.9771548 | J9: =J8/$O$6*100 -> 3.6860032 | ... N9: =N8/$O$6*100 -> 6.7346964
A10: 전 체 누 계 | B10: 투표자수 | C10: =$N$6+C8 -> 2357976 | D10: =$N$6+D8 -> 2441302 | E10: =$N$6+E8 -> 2575623 | F10: =$N$6+F8 -> 2787021 | G10: =$N$6+G8 -> 3038188 | H10: =$N$6+H8 -> 3294901 | I10: =$N$6+I8 -> 3549781 | J10: =$N$6+J8 -> 3848209 | ... N10: =$N$6+N8 -> 5131721
B11: 투 표 율 | C11: =C10/$O$6*100 -> 5.6008402 | D11: =D10/$O$6*100 -> 5.7987623 | E11: =E10/$O$6*100 -> 6.1178115 | F11: =F10/$O$6*100 -> 6.6199398 | G11: =G10/$O$6*100 -> 7.2165304 | H11: =H10/$O$6*100 -> 7.8262942 | I11: =I10/$O$6*100 -> 8.4317041 | J11: =J10/$O$6*100 -> 9.1405525 | ... N11: =N10/$O$6*100 -> 12.189246
A12: * 관내 - 3,393,304명(66.1%), 관외 - 1,738,417명(33.9%)
A13: * 최고 - 경남 하동군(25.84%), 최저 - 대구 서구(7.93%)
A16: < 직전 임기만료선거 시간대별 사전투표율 >
A17: 선거명 | B17: 구 분 | C17: 0.29166667 | D17: 0.33333333 | E17: 0.375 | F17: 0.41666667 | G17: 0.45833333 | H17: 0.5 | I17: 0.54166667 | J17: 0.58333333 | K17: 0.625 | L17: 0.66666667 | M17: 0.70833333 | N17: 0.75 | O17: 선거인수
A18: 제6회 지방선거 | B18: 1일차 | C18: 0.22 | E18: 0.72 | G18: 1.65 | H18: 2.06 | I18: 2.43 | J18: 2.9 | K18: 3.39 | L18: 3.84 | M18: 4.27 | N18: 4.75 | O18: 41296228
B19: 2일차 | C19: 0.2 | E19: 0.77 | G19: 1.9 | H19: 2.52 | I19: 3.06 | J19: 3.68 | K19: 4.33 | L19: 5 | M19: 5.74 | N19: 6.74
B20: 2일차누계 | C20: 4.94 | E20: 5.52 | G20: 6.65 | H20: 7.27 | I20: 7.81 | J20: 8.43 | K20: 9.07 | L20: 9.74 | M20: 10.49 | N20: 11.49
A21: '14 하반기 재·보선 | B21: 1일차 | C21: 0.38409737 | D21: 1.25 | E21: 2.2147952 | F21: 4.25 | G21: 6.434878 | H21: 7.7068888 | I21: 8.4401656 | J21: 9.5575398 | K21: 10.380606 | L21: 11.163765 | M21: 11.657605 | N21: 12.10655 | O21: 20047
B22: 2일차 | C22: 0.28 | D22: 1.05 | E22: 1.37 | F22: 2.55 | G22: 3.47 | H22: 4.08 | I22: 4.69 | J22: 5.38 | K22: 5.93 | L22: 6.47 | M22: 6.97 | N22: 7.29
B23: 2일차누계 | C23: 12.385893 | D23: 13.12 | E23: 13.483314 | F23: 14.55 | G23: 15.583379 | H23: 16.186961 | I23: 16.795531 | J23: 17.493889 | K23: 18.0426 | L23: 18.581334 | M23: 19.075173 | N23: 19.399411
A24: '15 상반기 재·보선 | B24: 1일차 | C24: 0.1013832 | D24: 0.21 | E24: 0.31887962 | F24: 0.45 | G24: 0.78597377 | H24: 1.019724 | I24: 1.2258428 | J24: 1.471885 | K24: 1.726562 | L24: 1.9689471 | M24: 2.2034084 | N24: 2.399267 | O24: 984384
B25: 2일차 | C25: 0.11651957 | D25: 0.33 | E25: 0.50711917 | F25: 0.88 | G25: 1.2756201 | H25: 1.7005559 | I25: 2.0793715 | J25: 2.5084723 | K25: 2.9405191 | L25: 3.3997911 | M25: 3.8672916 | N25: 4.3374334
B26: 2일차누계 | C26: 2.5157865 | D26: 2.77 | E26: 2.9063861 | F26: 3.33 | G26: 3.674887 | H26: 4.0998228 | I26: 4.4786384 | J26: 4.9077393 | K26: 5.3397861 | L26: 5.7990581 | M26: 6.2665586 | N26: 6.7367003
